BEGIN:VCALENDAR
VERSION:2.0
PRODID:-//Corporate Housing Providers Association - ECPv6.15.19//NONSGML v1.0//EN
CALSCALE:GREGORIAN
METHOD:PUBLISH
X-ORIGINAL-URL:https://www.chpaonline.org
X-WR-CALDESC:Events for Corporate Housing Providers Association
REFRESH-INTERVAL;VALUE=DURATION:PT1H
X-Robots-Tag:noindex
X-PUBLISHED-TTL:PT1H
BEGIN:VTIMEZONE
TZID:America/Indiana/Indianapolis
BEGIN:DAYLIGHT
TZOFFSETFROM:-0500
TZOFFSETTO:-0400
TZNAME:EDT
DTSTART:20250309T070000
END:DAYLIGHT
BEGIN:STANDARD
TZOFFSETFROM:-0400
TZOFFSETTO:-0500
TZNAME:EST
DTSTART:20251102T060000
END:STANDARD
BEGIN:DAYLIGHT
TZOFFSETFROM:-0500
TZOFFSETTO:-0400
TZNAME:EDT
DTSTART:20260308T070000
END:DAYLIGHT
BEGIN:STANDARD
TZOFFSETFROM:-0400
TZOFFSETTO:-0500
TZNAME:EST
DTSTART:20261101T060000
END:STANDARD
BEGIN:DAYLIGHT
TZOFFSETFROM:-0500
TZOFFSETTO:-0400
TZNAME:EDT
DTSTART:20270314T070000
END:DAYLIGHT
BEGIN:STANDARD
TZOFFSETFROM:-0400
TZOFFSETTO:-0500
TZNAME:EST
DTSTART:20271107T060000
END:STANDARD
END:VTIMEZONE
BEGIN:VEVENT
DTSTART;TZID=America/Indiana/Indianapolis:20260421T130000
DTEND;TZID=America/Indiana/Indianapolis:20260421T133000
DTSTAMP:20260419T095609
CREATED:20260414T153751Z
LAST-MODIFIED:20260414T153752Z
UID:8139-1776776400-1776778200@www.chpaonline.org
SUMMARY:The Evolution of Corporate Housing - Part 1
DESCRIPTION:Zoom
URL:https://www.chpaonline.org/event/the-evolution-of-corporate-housing-part-1/
LOCATION:Zoom
CATEGORIES:Webinars
END:VEVENT
END:VCALENDAR